BEGIN:VCALENDAR
VERSION:2.0
PRODID:-//St. Paul&#039;s Co-Cathedral - ECPv6.15.20//NONSGML v1.0//EN
CALSCALE:GREGORIAN
METHOD:PUBLISH
X-WR-CALNAME:St. Paul&#039;s Co-Cathedral
X-ORIGINAL-URL:https://www.stpaulscc.com
X-WR-CALDESC:Events for St. Paul&#039;s Co-Cathedral
REFRESH-INTERVAL;VALUE=DURATION:PT1H
X-Robots-Tag:noindex
X-PUBLISHED-TTL:PT1H
BEGIN:VTIMEZONE
TZID:America/Regina
BEGIN:STANDARD
TZOFFSETFROM:-0600
TZOFFSETTO:-0600
TZNAME:CST
DTSTART:20250101T000000
END:STANDARD
END:VTIMEZONE
BEGIN:VEVENT
DTSTART;TZID=America/Regina:20260531T080000
DTEND;TZID=America/Regina:20260531T090000
DTSTAMP:20260420T145646
CREATED:20260302T195053Z
LAST-MODIFIED:20260302T195053Z
UID:10002386-1780214400-1780218000@www.stpaulscc.com
SUMMARY:Sunday Mass
DESCRIPTION:
URL:https://www.stpaulscc.com/event/sunday-mass/2026-05-31/
END:VEVENT
BEGIN:VEVENT
DTSTART;TZID=America/Regina:20260529T173000
DTEND;TZID=America/Regina:20260529T183000
DTSTAMP:20260420T145646
CREATED:20240412T165213Z
LAST-MODIFIED:20260302T194632Z
UID:10001107-1780075800-1780079400@www.stpaulscc.com
SUMMARY:Sto. Nino Prayer Group
DESCRIPTION:
URL:https://www.stpaulscc.com/event/sto-nino-prayer-group/2026-05-29/
END:VEVENT
BEGIN:VEVENT
DTSTART;TZID=America/Regina:20260528T200000
DTEND;TZID=America/Regina:20260528T210000
DTSTAMP:20260420T145646
CREATED:20240412T165044Z
LAST-MODIFIED:20260302T194215Z
UID:10000845-1779998400-1780002000@www.stpaulscc.com
SUMMARY:Christ the King Prayer Group
DESCRIPTION:
URL:https://www.stpaulscc.com/event/christ-the-king-prayer-group/2026-05-28/
END:VEVENT
BEGIN:VEVENT
DTSTART;TZID=America/Regina:20260527T130000
DTEND;TZID=America/Regina:20260527T170000
DTSTAMP:20260420T145646
CREATED:20250131T154413Z
LAST-MODIFIED:20250131T154418Z
UID:10000522-1779886800-1779901200@www.stpaulscc.com
SUMMARY:Eucharistic Adoration
DESCRIPTION:
URL:https://www.stpaulscc.com/event/eucharistic-adoration-2-2/2026-05-27/
END:VEVENT
BEGIN:VEVENT
DTSTART;TZID=America/Regina:20260525T183000
DTEND;TZID=America/Regina:20260525T193000
DTSTAMP:20260420T145646
CREATED:20240412T164318Z
LAST-MODIFIED:20240412T164406Z
UID:10000199-1779733800-1779737400@www.stpaulscc.com
SUMMARY:Medjugorje Prayer Group
DESCRIPTION:
URL:https://www.stpaulscc.com/event/4333/2026-05-25/
END:VEVENT
BEGIN:VEVENT
DTSTART;TZID=America/Regina:20260524T200000
DTEND;TZID=America/Regina:20260524T210000
DTSTAMP:20260420T145646
CREATED:20260302T195230Z
LAST-MODIFIED:20260302T195246Z
UID:10002909-1779652800-1779656400@www.stpaulscc.com
SUMMARY:Sunday Mass
DESCRIPTION:
URL:https://www.stpaulscc.com/event/sunday-mass-3/2026-05-24/
END:VEVENT
BEGIN:VEVENT
DTSTART;TZID=America/Regina:20260524T123000
DTEND;TZID=America/Regina:20260524T143000
DTSTAMP:20260420T145646
CREATED:20240412T165642Z
LAST-MODIFIED:20260109T175559Z
UID:10001917-1779625800-1779633000@www.stpaulscc.com
SUMMARY:Eritrean Mass
DESCRIPTION:
URL:https://www.stpaulscc.com/event/eritrean-mass/2026-05-24/
END:VEVENT
BEGIN:VEVENT
DTSTART;TZID=America/Regina:20260524T100000
DTEND;TZID=America/Regina:20260524T110000
DTSTAMP:20260420T145646
CREATED:20260302T195146Z
LAST-MODIFIED:20260302T195146Z
UID:10002647-1779616800-1779620400@www.stpaulscc.com
SUMMARY:Sunday Mass
DESCRIPTION:
URL:https://www.stpaulscc.com/event/sunday-mass-2/2026-05-24/
END:VEVENT
BEGIN:VEVENT
DTSTART;TZID=America/Regina:20260524T090000
DTEND;TZID=America/Regina:20260524T110000
DTSTAMP:20260420T145646
CREATED:20240412T165526Z
LAST-MODIFIED:20241219T191156Z
UID:10001280-1779613200-1779620400@www.stpaulscc.com
SUMMARY:K of C Pancake Breakfast
DESCRIPTION:Breakfast following the 8am Mass and 10am Mass \nPrice by donation
URL:https://www.stpaulscc.com/event/k-of-c-pancake-breakfast-3/2026-05-24/
END:VEVENT
BEGIN:VEVENT
DTSTART;TZID=America/Regina:20260524T080000
DTEND;TZID=America/Regina:20260524T090000
DTSTAMP:20260420T145646
CREATED:20260302T195053Z
LAST-MODIFIED:20260302T195053Z
UID:10002385-1779609600-1779613200@www.stpaulscc.com
SUMMARY:Sunday Mass
DESCRIPTION:
URL:https://www.stpaulscc.com/event/sunday-mass/2026-05-24/
END:VEVENT
BEGIN:VEVENT
DTSTART;TZID=America/Regina:20260522T173000
DTEND;TZID=America/Regina:20260522T183000
DTSTAMP:20260420T145646
CREATED:20240412T165213Z
LAST-MODIFIED:20260302T194632Z
UID:10001106-1779471000-1779474600@www.stpaulscc.com
SUMMARY:Sto. Nino Prayer Group
DESCRIPTION:
URL:https://www.stpaulscc.com/event/sto-nino-prayer-group/2026-05-22/
END:VEVENT
BEGIN:VEVENT
DTSTART;TZID=America/Regina:20260521T200000
DTEND;TZID=America/Regina:20260521T210000
DTSTAMP:20260420T145646
CREATED:20240412T165044Z
LAST-MODIFIED:20260302T194215Z
UID:10000844-1779393600-1779397200@www.stpaulscc.com
SUMMARY:Christ the King Prayer Group
DESCRIPTION:
URL:https://www.stpaulscc.com/event/christ-the-king-prayer-group/2026-05-21/
END:VEVENT
BEGIN:VEVENT
DTSTART;TZID=America/Regina:20260520T130000
DTEND;TZID=America/Regina:20260520T170000
DTSTAMP:20260420T145646
CREATED:20250131T154413Z
LAST-MODIFIED:20250131T154418Z
UID:10000521-1779282000-1779296400@www.stpaulscc.com
SUMMARY:Eucharistic Adoration
DESCRIPTION:
URL:https://www.stpaulscc.com/event/eucharistic-adoration-2-2/2026-05-20/
END:VEVENT
BEGIN:VEVENT
DTSTART;TZID=America/Regina:20260518T183000
DTEND;TZID=America/Regina:20260518T193000
DTSTAMP:20260420T145646
CREATED:20240412T164318Z
LAST-MODIFIED:20240412T164406Z
UID:10000198-1779129000-1779132600@www.stpaulscc.com
SUMMARY:Medjugorje Prayer Group
DESCRIPTION:
URL:https://www.stpaulscc.com/event/4333/2026-05-18/
END:VEVENT
BEGIN:VEVENT
DTSTART;TZID=America/Regina:20260517T200000
DTEND;TZID=America/Regina:20260517T210000
DTSTAMP:20260420T145646
CREATED:20260302T195230Z
LAST-MODIFIED:20260302T195246Z
UID:10002908-1779048000-1779051600@www.stpaulscc.com
SUMMARY:Sunday Mass
DESCRIPTION:
URL:https://www.stpaulscc.com/event/sunday-mass-3/2026-05-17/
END:VEVENT
BEGIN:VEVENT
DTSTART;TZID=America/Regina:20260517T170000
DTEND;TZID=America/Regina:20260517T180000
DTSTAMP:20260420T145646
CREATED:20240412T165748Z
LAST-MODIFIED:20260109T173908Z
UID:10001399-1779037200-1779040800@www.stpaulscc.com
SUMMARY:Filipino Mass
DESCRIPTION:
URL:https://www.stpaulscc.com/event/filipino-mass/2026-05-17/
END:VEVENT
BEGIN:VEVENT
DTSTART;TZID=America/Regina:20260517T123000
DTEND;TZID=America/Regina:20260517T143000
DTSTAMP:20260420T145646
CREATED:20240412T165642Z
LAST-MODIFIED:20260109T175559Z
UID:10001916-1779021000-1779028200@www.stpaulscc.com
SUMMARY:Eritrean Mass
DESCRIPTION:
URL:https://www.stpaulscc.com/event/eritrean-mass/2026-05-17/
END:VEVENT
BEGIN:VEVENT
DTSTART;TZID=America/Regina:20260517T100000
DTEND;TZID=America/Regina:20260517T110000
DTSTAMP:20260420T145646
CREATED:20260302T195146Z
LAST-MODIFIED:20260302T195146Z
UID:10002646-1779012000-1779015600@www.stpaulscc.com
SUMMARY:Sunday Mass
DESCRIPTION:
URL:https://www.stpaulscc.com/event/sunday-mass-2/2026-05-17/
END:VEVENT
BEGIN:VEVENT
DTSTART;TZID=America/Regina:20260517T080000
DTEND;TZID=America/Regina:20260517T090000
DTSTAMP:20260420T145646
CREATED:20260302T195053Z
LAST-MODIFIED:20260302T195053Z
UID:10002384-1779004800-1779008400@www.stpaulscc.com
SUMMARY:Sunday Mass
DESCRIPTION:
URL:https://www.stpaulscc.com/event/sunday-mass/2026-05-17/
END:VEVENT
BEGIN:VEVENT
DTSTART;TZID=America/Regina:20260515T173000
DTEND;TZID=America/Regina:20260515T183000
DTSTAMP:20260420T145646
CREATED:20240412T165213Z
LAST-MODIFIED:20260302T194632Z
UID:10001105-1778866200-1778869800@www.stpaulscc.com
SUMMARY:Sto. Nino Prayer Group
DESCRIPTION:
URL:https://www.stpaulscc.com/event/sto-nino-prayer-group/2026-05-15/
END:VEVENT
BEGIN:VEVENT
DTSTART;TZID=America/Regina:20260514T200000
DTEND;TZID=America/Regina:20260514T210000
DTSTAMP:20260420T145646
CREATED:20240412T165044Z
LAST-MODIFIED:20260302T194215Z
UID:10000843-1778788800-1778792400@www.stpaulscc.com
SUMMARY:Christ the King Prayer Group
DESCRIPTION:
URL:https://www.stpaulscc.com/event/christ-the-king-prayer-group/2026-05-14/
END:VEVENT
BEGIN:VEVENT
DTSTART;TZID=America/Regina:20260513T150000
DTEND;TZID=America/Regina:20260513T160000
DTSTAMP:20260420T145646
CREATED:20241022T174623Z
LAST-MODIFIED:20250304T151037Z
UID:10000698-1778684400-1778688000@www.stpaulscc.com
SUMMARY:Marian Movement of Priests Prayer Cenacle
DESCRIPTION:
URL:https://www.stpaulscc.com/event/marian-movement-of-priests-prayer-cenacle-2/2026-05-13/
END:VEVENT
BEGIN:VEVENT
DTSTART;TZID=America/Regina:20260513T130000
DTEND;TZID=America/Regina:20260513T170000
DTSTAMP:20260420T145646
CREATED:20250131T154413Z
LAST-MODIFIED:20250131T154418Z
UID:10000520-1778677200-1778691600@www.stpaulscc.com
SUMMARY:Eucharistic Adoration
DESCRIPTION:
URL:https://www.stpaulscc.com/event/eucharistic-adoration-2-2/2026-05-13/
END:VEVENT
BEGIN:VEVENT
DTSTART;TZID=America/Regina:20260511T183000
DTEND;TZID=America/Regina:20260511T193000
DTSTAMP:20260420T145646
CREATED:20240412T164318Z
LAST-MODIFIED:20240412T164406Z
UID:10000197-1778524200-1778527800@www.stpaulscc.com
SUMMARY:Medjugorje Prayer Group
DESCRIPTION:
URL:https://www.stpaulscc.com/event/4333/2026-05-11/
END:VEVENT
BEGIN:VEVENT
DTSTART;TZID=America/Regina:20260510T200000
DTEND;TZID=America/Regina:20260510T210000
DTSTAMP:20260420T145646
CREATED:20260302T195230Z
LAST-MODIFIED:20260302T195246Z
UID:10002907-1778443200-1778446800@www.stpaulscc.com
SUMMARY:Sunday Mass
DESCRIPTION:
URL:https://www.stpaulscc.com/event/sunday-mass-3/2026-05-10/
END:VEVENT
BEGIN:VEVENT
DTSTART;TZID=America/Regina:20260510T123000
DTEND;TZID=America/Regina:20260510T143000
DTSTAMP:20260420T145646
CREATED:20240412T165642Z
LAST-MODIFIED:20260109T175559Z
UID:10001915-1778416200-1778423400@www.stpaulscc.com
SUMMARY:Eritrean Mass
DESCRIPTION:
URL:https://www.stpaulscc.com/event/eritrean-mass/2026-05-10/
END:VEVENT
BEGIN:VEVENT
DTSTART;TZID=America/Regina:20260510T100000
DTEND;TZID=America/Regina:20260510T110000
DTSTAMP:20260420T145646
CREATED:20260302T195146Z
LAST-MODIFIED:20260302T195146Z
UID:10002645-1778407200-1778410800@www.stpaulscc.com
SUMMARY:Sunday Mass
DESCRIPTION:
URL:https://www.stpaulscc.com/event/sunday-mass-2/2026-05-10/
END:VEVENT
BEGIN:VEVENT
DTSTART;TZID=America/Regina:20260510T080000
DTEND;TZID=America/Regina:20260510T090000
DTSTAMP:20260420T145646
CREATED:20260302T195053Z
LAST-MODIFIED:20260302T195053Z
UID:10002383-1778400000-1778403600@www.stpaulscc.com
SUMMARY:Sunday Mass
DESCRIPTION:
URL:https://www.stpaulscc.com/event/sunday-mass/2026-05-10/
END:VEVENT
BEGIN:VEVENT
DTSTART;TZID=America/Regina:20260509T170000
DTEND;TZID=America/Regina:20260509T210000
DTSTAMP:20260420T145646
CREATED:20260420T202013Z
LAST-MODIFIED:20260420T202013Z
UID:10003165-1778346000-1778360400@www.stpaulscc.com
SUMMARY:40th Anniversary Ordination of Fr. Penna & Fr. Les
DESCRIPTION:St. Paul’s Co-Cathedral will be hosting a 40th Ordination Celebration for Father Penna and Father Les on Saturday\, May 9. An anticipatory Mass will take place at 5:00 p.m.\, followed by a catered dinner and celebration in St. Paul’s basement immediately afterward.\n\n \n\nTickets are $30 per individual or $100 per family and kids 5 and under are free. Tickets can be purchased from Parish Council in the welcome area after each Sunday Mass. Deadline to purchase tickets is April 30.\n\n \n\nA slideshow will be prepared to commemorate our two priests. Parishioners are encouraged to submit any photos they would like included. Please email photos to kylesiemens6@gmail.com.
URL:https://www.stpaulscc.com/event/40th-anniversary-ordination-of-fr-penna-fr-les/
END:VEVENT
BEGIN:VEVENT
DTSTART;TZID=America/Regina:20260508T173000
DTEND;TZID=America/Regina:20260508T183000
DTSTAMP:20260420T145646
CREATED:20240412T165213Z
LAST-MODIFIED:20260302T194632Z
UID:10001104-1778261400-1778265000@www.stpaulscc.com
SUMMARY:Sto. Nino Prayer Group
DESCRIPTION:
URL:https://www.stpaulscc.com/event/sto-nino-prayer-group/2026-05-08/
END:VEVENT
END:VCALENDAR