BEGIN:VCALENDAR
VERSION:2.0
PRODID:-//St. Paul&#039;s Co-Cathedral - ECPv6.15.20//NONSGML v1.0//EN
CALSCALE:GREGORIAN
METHOD:PUBLISH
X-ORIGINAL-URL:https://www.stpaulscc.com
X-WR-CALDESC:Events for St. Paul&#039;s Co-Cathedral
REFRESH-INTERVAL;VALUE=DURATION:PT1H
X-Robots-Tag:noindex
X-PUBLISHED-TTL:PT1H
BEGIN:VTIMEZONE
TZID:America/Regina
BEGIN:STANDARD
TZOFFSETFROM:-0600
TZOFFSETTO:-0600
TZNAME:CST
DTSTART:20250101T000000
END:STANDARD
END:VTIMEZONE
BEGIN:VEVENT
DTSTART;TZID=America/Regina:20260417T173000
DTEND;TZID=America/Regina:20260417T183000
DTSTAMP:20260420T143011
CREATED:20240412T165213Z
LAST-MODIFIED:20260302T194632Z
UID:10001101-1776447000-1776450600@www.stpaulscc.com
SUMMARY:Sto. Nino Prayer Group
DESCRIPTION:
URL:https://www.stpaulscc.com/event/sto-nino-prayer-group/2026-04-17/
END:VEVENT
BEGIN:VEVENT
DTSTART;TZID=America/Regina:20260419T080000
DTEND;TZID=America/Regina:20260419T090000
DTSTAMP:20260420T143011
CREATED:20260302T195053Z
LAST-MODIFIED:20260302T195053Z
UID:10002380-1776585600-1776589200@www.stpaulscc.com
SUMMARY:Sunday Mass
DESCRIPTION:
URL:https://www.stpaulscc.com/event/sunday-mass/2026-04-19/
END:VEVENT
BEGIN:VEVENT
DTSTART;TZID=America/Regina:20260419T100000
DTEND;TZID=America/Regina:20260419T110000
DTSTAMP:20260420T143011
CREATED:20260302T195146Z
LAST-MODIFIED:20260302T195146Z
UID:10002642-1776592800-1776596400@www.stpaulscc.com
SUMMARY:Sunday Mass
DESCRIPTION:
URL:https://www.stpaulscc.com/event/sunday-mass-2/2026-04-19/
END:VEVENT
BEGIN:VEVENT
DTSTART;TZID=America/Regina:20260419T123000
DTEND;TZID=America/Regina:20260419T143000
DTSTAMP:20260420T143011
CREATED:20240412T165642Z
LAST-MODIFIED:20260109T175559Z
UID:10001912-1776601800-1776609000@www.stpaulscc.com
SUMMARY:Eritrean Mass
DESCRIPTION:
URL:https://www.stpaulscc.com/event/eritrean-mass/2026-04-19/
END:VEVENT
BEGIN:VEVENT
DTSTART;TZID=America/Regina:20260419T170000
DTEND;TZID=America/Regina:20260419T180000
DTSTAMP:20260420T143011
CREATED:20240412T165748Z
LAST-MODIFIED:20260109T173908Z
UID:10001398-1776618000-1776621600@www.stpaulscc.com
SUMMARY:Filipino Mass
DESCRIPTION:
URL:https://www.stpaulscc.com/event/filipino-mass/2026-04-19/
END:VEVENT
BEGIN:VEVENT
DTSTART;TZID=America/Regina:20260419T200000
DTEND;TZID=America/Regina:20260419T210000
DTSTAMP:20260420T143011
CREATED:20260302T195230Z
LAST-MODIFIED:20260302T195246Z
UID:10002904-1776628800-1776632400@www.stpaulscc.com
SUMMARY:Sunday Mass
DESCRIPTION:
URL:https://www.stpaulscc.com/event/sunday-mass-3/2026-04-19/
END:VEVENT
BEGIN:VEVENT
DTSTART;TZID=America/Regina:20260420T183000
DTEND;TZID=America/Regina:20260420T193000
DTSTAMP:20260420T143011
CREATED:20240412T164318Z
LAST-MODIFIED:20240412T164406Z
UID:10000194-1776709800-1776713400@www.stpaulscc.com
SUMMARY:Medjugorje Prayer Group
DESCRIPTION:
URL:https://www.stpaulscc.com/event/4333/2026-04-20/
END:VEVENT
BEGIN:VEVENT
DTSTART;TZID=America/Regina:20260422T130000
DTEND;TZID=America/Regina:20260422T170000
DTSTAMP:20260420T143011
CREATED:20250131T154413Z
LAST-MODIFIED:20250131T154418Z
UID:10000517-1776862800-1776877200@www.stpaulscc.com
SUMMARY:Eucharistic Adoration
DESCRIPTION:
URL:https://www.stpaulscc.com/event/eucharistic-adoration-2-2/2026-04-22/
END:VEVENT
BEGIN:VEVENT
DTSTART;TZID=America/Regina:20260423T200000
DTEND;TZID=America/Regina:20260423T210000
DTSTAMP:20260420T143011
CREATED:20240412T165044Z
LAST-MODIFIED:20260302T194215Z
UID:10000840-1776974400-1776978000@www.stpaulscc.com
SUMMARY:Christ the King Prayer Group
DESCRIPTION:
URL:https://www.stpaulscc.com/event/christ-the-king-prayer-group/2026-04-23/
END:VEVENT
BEGIN:VEVENT
DTSTART;TZID=America/Regina:20260424T173000
DTEND;TZID=America/Regina:20260424T183000
DTSTAMP:20260420T143011
CREATED:20240412T165213Z
LAST-MODIFIED:20260302T194632Z
UID:10001102-1777051800-1777055400@www.stpaulscc.com
SUMMARY:Sto. Nino Prayer Group
DESCRIPTION:
URL:https://www.stpaulscc.com/event/sto-nino-prayer-group/2026-04-24/
END:VEVENT
BEGIN:VEVENT
DTSTART;TZID=America/Regina:20260426T080000
DTEND;TZID=America/Regina:20260426T090000
DTSTAMP:20260420T143011
CREATED:20260302T195053Z
LAST-MODIFIED:20260302T195053Z
UID:10002381-1777190400-1777194000@www.stpaulscc.com
SUMMARY:Sunday Mass
DESCRIPTION:
URL:https://www.stpaulscc.com/event/sunday-mass/2026-04-26/
END:VEVENT
BEGIN:VEVENT
DTSTART;TZID=America/Regina:20260426T090000
DTEND;TZID=America/Regina:20260426T110000
DTSTAMP:20260420T143011
CREATED:20240412T165526Z
LAST-MODIFIED:20241219T191156Z
UID:10001279-1777194000-1777201200@www.stpaulscc.com
SUMMARY:K of C Pancake Breakfast
DESCRIPTION:Breakfast following the 8am Mass and 10am Mass \nPrice by donation
URL:https://www.stpaulscc.com/event/k-of-c-pancake-breakfast-3/2026-04-26/
END:VEVENT
BEGIN:VEVENT
DTSTART;TZID=America/Regina:20260426T100000
DTEND;TZID=America/Regina:20260426T110000
DTSTAMP:20260420T143011
CREATED:20260302T195146Z
LAST-MODIFIED:20260302T195146Z
UID:10002643-1777197600-1777201200@www.stpaulscc.com
SUMMARY:Sunday Mass
DESCRIPTION:
URL:https://www.stpaulscc.com/event/sunday-mass-2/2026-04-26/
END:VEVENT
BEGIN:VEVENT
DTSTART;TZID=America/Regina:20260426T123000
DTEND;TZID=America/Regina:20260426T143000
DTSTAMP:20260420T143011
CREATED:20240412T165642Z
LAST-MODIFIED:20260109T175559Z
UID:10001913-1777206600-1777213800@www.stpaulscc.com
SUMMARY:Eritrean Mass
DESCRIPTION:
URL:https://www.stpaulscc.com/event/eritrean-mass/2026-04-26/
END:VEVENT
BEGIN:VEVENT
DTSTART;TZID=America/Regina:20260426T200000
DTEND;TZID=America/Regina:20260426T210000
DTSTAMP:20260420T143011
CREATED:20260302T195230Z
LAST-MODIFIED:20260302T195246Z
UID:10002905-1777233600-1777237200@www.stpaulscc.com
SUMMARY:Sunday Mass
DESCRIPTION:
URL:https://www.stpaulscc.com/event/sunday-mass-3/2026-04-26/
END:VEVENT
BEGIN:VEVENT
DTSTART;TZID=America/Regina:20260427T183000
DTEND;TZID=America/Regina:20260427T193000
DTSTAMP:20260420T143011
CREATED:20240412T164318Z
LAST-MODIFIED:20240412T164406Z
UID:10000195-1777314600-1777318200@www.stpaulscc.com
SUMMARY:Medjugorje Prayer Group
DESCRIPTION:
URL:https://www.stpaulscc.com/event/4333/2026-04-27/
END:VEVENT
BEGIN:VEVENT
DTSTART;TZID=America/Regina:20260429T130000
DTEND;TZID=America/Regina:20260429T170000
DTSTAMP:20260420T143011
CREATED:20250131T154413Z
LAST-MODIFIED:20250131T154418Z
UID:10000518-1777467600-1777482000@www.stpaulscc.com
SUMMARY:Eucharistic Adoration
DESCRIPTION:
URL:https://www.stpaulscc.com/event/eucharistic-adoration-2-2/2026-04-29/
END:VEVENT
BEGIN:VEVENT
DTSTART;TZID=America/Regina:20260430T200000
DTEND;TZID=America/Regina:20260430T210000
DTSTAMP:20260420T143011
CREATED:20240412T165044Z
LAST-MODIFIED:20260302T194215Z
UID:10000841-1777579200-1777582800@www.stpaulscc.com
SUMMARY:Christ the King Prayer Group
DESCRIPTION:
URL:https://www.stpaulscc.com/event/christ-the-king-prayer-group/2026-04-30/
END:VEVENT
BEGIN:VEVENT
DTSTART;TZID=America/Regina:20260501T173000
DTEND;TZID=America/Regina:20260501T183000
DTSTAMP:20260420T143011
CREATED:20240412T165213Z
LAST-MODIFIED:20260302T194632Z
UID:10001103-1777656600-1777660200@www.stpaulscc.com
SUMMARY:Sto. Nino Prayer Group
DESCRIPTION:
URL:https://www.stpaulscc.com/event/sto-nino-prayer-group/2026-05-01/
END:VEVENT
BEGIN:VEVENT
DTSTART;VALUE=DATE:20260503
DTEND;VALUE=DATE:20260504
DTSTAMP:20260420T143011
CREATED:20240412T171436Z
LAST-MODIFIED:20240412T171436Z
UID:10001436-1777766400-1777852799@www.stpaulscc.com
SUMMARY:Feast of St. Philip & St. James
DESCRIPTION:
URL:https://www.stpaulscc.com/event/feast-of-st-philip-st-james/2026-05-03/
END:VEVENT
BEGIN:VEVENT
DTSTART;TZID=America/Regina:20260503T080000
DTEND;TZID=America/Regina:20260503T090000
DTSTAMP:20260420T143011
CREATED:20260302T195053Z
LAST-MODIFIED:20260302T195053Z
UID:10002382-1777795200-1777798800@www.stpaulscc.com
SUMMARY:Sunday Mass
DESCRIPTION:
URL:https://www.stpaulscc.com/event/sunday-mass/2026-05-03/
END:VEVENT
BEGIN:VEVENT
DTSTART;TZID=America/Regina:20260503T100000
DTEND;TZID=America/Regina:20260503T110000
DTSTAMP:20260420T143011
CREATED:20260302T195146Z
LAST-MODIFIED:20260302T195146Z
UID:10002644-1777802400-1777806000@www.stpaulscc.com
SUMMARY:Sunday Mass
DESCRIPTION:
URL:https://www.stpaulscc.com/event/sunday-mass-2/2026-05-03/
END:VEVENT
BEGIN:VEVENT
DTSTART;TZID=America/Regina:20260503T123000
DTEND;TZID=America/Regina:20260503T143000
DTSTAMP:20260420T143011
CREATED:20240412T165642Z
LAST-MODIFIED:20260109T175559Z
UID:10001914-1777811400-1777818600@www.stpaulscc.com
SUMMARY:Eritrean Mass
DESCRIPTION:
URL:https://www.stpaulscc.com/event/eritrean-mass/2026-05-03/
END:VEVENT
BEGIN:VEVENT
DTSTART;TZID=America/Regina:20260503T200000
DTEND;TZID=America/Regina:20260503T210000
DTSTAMP:20260420T143011
CREATED:20260302T195230Z
LAST-MODIFIED:20260302T195246Z
UID:10002906-1777838400-1777842000@www.stpaulscc.com
SUMMARY:Sunday Mass
DESCRIPTION:
URL:https://www.stpaulscc.com/event/sunday-mass-3/2026-05-03/
END:VEVENT
BEGIN:VEVENT
DTSTART;TZID=America/Regina:20260504T183000
DTEND;TZID=America/Regina:20260504T193000
DTSTAMP:20260420T143011
CREATED:20240412T164318Z
LAST-MODIFIED:20240412T164406Z
UID:10000196-1777919400-1777923000@www.stpaulscc.com
SUMMARY:Medjugorje Prayer Group
DESCRIPTION:
URL:https://www.stpaulscc.com/event/4333/2026-05-04/
END:VEVENT
BEGIN:VEVENT
DTSTART;TZID=America/Regina:20260505T194500
DTEND;TZID=America/Regina:20260505T204500
DTSTAMP:20260420T143011
CREATED:20240412T173007Z
LAST-MODIFIED:20240412T173007Z
UID:10001480-1778010300-1778013900@www.stpaulscc.com
SUMMARY:Holy Face Devotion
DESCRIPTION:
URL:https://www.stpaulscc.com/event/holy-face-devotion/2026-05-05/
END:VEVENT
BEGIN:VEVENT
DTSTART;TZID=America/Regina:20260506T130000
DTEND;TZID=America/Regina:20260506T170000
DTSTAMP:20260420T143011
CREATED:20250131T154413Z
LAST-MODIFIED:20250131T154418Z
UID:10000519-1778072400-1778086800@www.stpaulscc.com
SUMMARY:Eucharistic Adoration
DESCRIPTION:
URL:https://www.stpaulscc.com/event/eucharistic-adoration-2-2/2026-05-06/
END:VEVENT
BEGIN:VEVENT
DTSTART;TZID=America/Regina:20260507T200000
DTEND;TZID=America/Regina:20260507T210000
DTSTAMP:20260420T143011
CREATED:20240412T165044Z
LAST-MODIFIED:20260302T194215Z
UID:10000842-1778184000-1778187600@www.stpaulscc.com
SUMMARY:Christ the King Prayer Group
DESCRIPTION:
URL:https://www.stpaulscc.com/event/christ-the-king-prayer-group/2026-05-07/
END:VEVENT
BEGIN:VEVENT
DTSTART;TZID=America/Regina:20260508T173000
DTEND;TZID=America/Regina:20260508T183000
DTSTAMP:20260420T143011
CREATED:20240412T165213Z
LAST-MODIFIED:20260302T194632Z
UID:10001104-1778261400-1778265000@www.stpaulscc.com
SUMMARY:Sto. Nino Prayer Group
DESCRIPTION:
URL:https://www.stpaulscc.com/event/sto-nino-prayer-group/2026-05-08/
END:VEVENT
BEGIN:VEVENT
DTSTART;TZID=America/Regina:20260509T170000
DTEND;TZID=America/Regina:20260509T210000
DTSTAMP:20260420T143011
CREATED:20260420T202013Z
LAST-MODIFIED:20260420T202013Z
UID:10003165-1778346000-1778360400@www.stpaulscc.com
SUMMARY:40th Anniversary Ordination of Fr. Penna & Fr. Les
DESCRIPTION:St. Paul’s Co-Cathedral will be hosting a 40th Ordination Celebration for Father Penna and Father Les on Saturday\, May 9. An anticipatory Mass will take place at 5:00 p.m.\, followed by a catered dinner and celebration in St. Paul’s basement immediately afterward.\n\n \n\nTickets are $30 per individual or $100 per family and kids 5 and under are free. Tickets can be purchased from Parish Council in the welcome area after each Sunday Mass. Deadline to purchase tickets is April 30.\n\n \n\nA slideshow will be prepared to commemorate our two priests. Parishioners are encouraged to submit any photos they would like included. Please email photos to kylesiemens6@gmail.com.
URL:https://www.stpaulscc.com/event/40th-anniversary-ordination-of-fr-penna-fr-les/
END:VEVENT
END:VCALENDAR