BEGIN:VCALENDAR
VERSION:2.0
PRODID:-//St. Paul&#039;s Co-Cathedral - ECPv6.15.20//NONSGML v1.0//EN
CALSCALE:GREGORIAN
METHOD:PUBLISH
X-WR-CALNAME:St. Paul&#039;s Co-Cathedral
X-ORIGINAL-URL:https://www.stpaulscc.com
X-WR-CALDESC:Events for St. Paul&#039;s Co-Cathedral
REFRESH-INTERVAL;VALUE=DURATION:PT1H
X-Robots-Tag:noindex
X-PUBLISHED-TTL:PT1H
BEGIN:VTIMEZONE
TZID:America/Regina
BEGIN:STANDARD
TZOFFSETFROM:-0600
TZOFFSETTO:-0600
TZNAME:CST
DTSTART:20260101T000000
END:STANDARD
END:VTIMEZONE
BEGIN:VEVENT
DTSTART;TZID=America/Regina:20270404T080000
DTEND;TZID=America/Regina:20270404T090000
DTSTAMP:20260425T074753
CREATED:20260302T195053Z
LAST-MODIFIED:20260302T195053Z
UID:10002430-1806825600-1806829200@www.stpaulscc.com
SUMMARY:Sunday Mass
DESCRIPTION:
URL:https://www.stpaulscc.com/event/sunday-mass/2027-04-04/
END:VEVENT
BEGIN:VEVENT
DTSTART;TZID=America/Regina:20270404T100000
DTEND;TZID=America/Regina:20270404T110000
DTSTAMP:20260425T074753
CREATED:20260302T195146Z
LAST-MODIFIED:20260302T195146Z
UID:10002692-1806832800-1806836400@www.stpaulscc.com
SUMMARY:Sunday Mass
DESCRIPTION:
URL:https://www.stpaulscc.com/event/sunday-mass-2/2027-04-04/
END:VEVENT
BEGIN:VEVENT
DTSTART;TZID=America/Regina:20270404T123000
DTEND;TZID=America/Regina:20270404T143000
DTSTAMP:20260425T074753
CREATED:20240412T165642Z
LAST-MODIFIED:20260109T175559Z
UID:10001962-1806841800-1806849000@www.stpaulscc.com
SUMMARY:Eritrean Mass
DESCRIPTION:
URL:https://www.stpaulscc.com/event/eritrean-mass/2027-04-04/
END:VEVENT
BEGIN:VEVENT
DTSTART;TZID=America/Regina:20270404T200000
DTEND;TZID=America/Regina:20270404T210000
DTSTAMP:20260425T074753
CREATED:20260302T195230Z
LAST-MODIFIED:20260302T195246Z
UID:10002954-1806868800-1806872400@www.stpaulscc.com
SUMMARY:Sunday Mass
DESCRIPTION:
URL:https://www.stpaulscc.com/event/sunday-mass-3/2027-04-04/
END:VEVENT
END:VCALENDAR