BEGIN:VCALENDAR
VERSION:2.0
PRODID:-//St. Paul&#039;s Co-Cathedral - ECPv6.15.20//NONSGML v1.0//EN
CALSCALE:GREGORIAN
METHOD:PUBLISH
X-ORIGINAL-URL:https://www.stpaulscc.com
X-WR-CALDESC:Events for St. Paul&#039;s Co-Cathedral
REFRESH-INTERVAL;VALUE=DURATION:PT1H
X-Robots-Tag:noindex
X-PUBLISHED-TTL:PT1H
BEGIN:VTIMEZONE
TZID:America/Regina
BEGIN:STANDARD
TZOFFSETFROM:-0600
TZOFFSETTO:-0600
TZNAME:CST
DTSTART:20260101T000000
END:STANDARD
END:VTIMEZONE
BEGIN:VEVENT
DTSTART;TZID=America/Regina:20270221T080000
DTEND;TZID=America/Regina:20270221T090000
DTSTAMP:20260419T125242
CREATED:20260302T195053Z
LAST-MODIFIED:20260302T195053Z
UID:10002424-1803196800-1803200400@www.stpaulscc.com
SUMMARY:Sunday Mass
DESCRIPTION:
URL:https://www.stpaulscc.com/event/sunday-mass/2027-02-21/
END:VEVENT
BEGIN:VEVENT
DTSTART;TZID=America/Regina:20270221T100000
DTEND;TZID=America/Regina:20270221T110000
DTSTAMP:20260419T125242
CREATED:20260302T195146Z
LAST-MODIFIED:20260302T195146Z
UID:10002686-1803204000-1803207600@www.stpaulscc.com
SUMMARY:Sunday Mass
DESCRIPTION:
URL:https://www.stpaulscc.com/event/sunday-mass-2/2027-02-21/
END:VEVENT
BEGIN:VEVENT
DTSTART;TZID=America/Regina:20270221T123000
DTEND;TZID=America/Regina:20270221T143000
DTSTAMP:20260419T125242
CREATED:20240412T165642Z
LAST-MODIFIED:20260109T175559Z
UID:10001956-1803213000-1803220200@www.stpaulscc.com
SUMMARY:Eritrean Mass
DESCRIPTION:
URL:https://www.stpaulscc.com/event/eritrean-mass/2027-02-21/
END:VEVENT
BEGIN:VEVENT
DTSTART;TZID=America/Regina:20270221T170000
DTEND;TZID=America/Regina:20270221T180000
DTSTAMP:20260419T125242
CREATED:20240412T165748Z
LAST-MODIFIED:20260109T173908Z
UID:10001408-1803229200-1803232800@www.stpaulscc.com
SUMMARY:Filipino Mass
DESCRIPTION:
URL:https://www.stpaulscc.com/event/filipino-mass/2027-02-21/
END:VEVENT
BEGIN:VEVENT
DTSTART;TZID=America/Regina:20270221T200000
DTEND;TZID=America/Regina:20270221T210000
DTSTAMP:20260419T125242
CREATED:20260302T195230Z
LAST-MODIFIED:20260302T195246Z
UID:10002948-1803240000-1803243600@www.stpaulscc.com
SUMMARY:Sunday Mass
DESCRIPTION:
URL:https://www.stpaulscc.com/event/sunday-mass-3/2027-02-21/
END:VEVENT
END:VCALENDAR