BEGIN:VCALENDAR
VERSION:2.0
PRODID:-//St. Paul&#039;s Co-Cathedral - ECPv6.15.20//NONSGML v1.0//EN
CALSCALE:GREGORIAN
METHOD:PUBLISH
X-ORIGINAL-URL:https://www.stpaulscc.com
X-WR-CALDESC:Events for St. Paul&#039;s Co-Cathedral
REFRESH-INTERVAL;VALUE=DURATION:PT1H
X-Robots-Tag:noindex
X-PUBLISHED-TTL:PT1H
BEGIN:VTIMEZONE
TZID:America/Regina
BEGIN:STANDARD
TZOFFSETFROM:-0600
TZOFFSETTO:-0600
TZNAME:CST
DTSTART:20260101T000000
END:STANDARD
END:VTIMEZONE
BEGIN:VEVENT
DTSTART;TZID=America/Regina:20270214T080000
DTEND;TZID=America/Regina:20270214T090000
DTSTAMP:20260419T125138
CREATED:20260302T195053Z
LAST-MODIFIED:20260302T195053Z
UID:10002423-1802592000-1802595600@www.stpaulscc.com
SUMMARY:Sunday Mass
DESCRIPTION:
URL:https://www.stpaulscc.com/event/sunday-mass/2027-02-14/
END:VEVENT
BEGIN:VEVENT
DTSTART;TZID=America/Regina:20270214T100000
DTEND;TZID=America/Regina:20270214T110000
DTSTAMP:20260419T125138
CREATED:20260302T195146Z
LAST-MODIFIED:20260302T195146Z
UID:10002685-1802599200-1802602800@www.stpaulscc.com
SUMMARY:Sunday Mass
DESCRIPTION:
URL:https://www.stpaulscc.com/event/sunday-mass-2/2027-02-14/
END:VEVENT
BEGIN:VEVENT
DTSTART;TZID=America/Regina:20270214T123000
DTEND;TZID=America/Regina:20270214T143000
DTSTAMP:20260419T125138
CREATED:20240412T165642Z
LAST-MODIFIED:20260109T175559Z
UID:10001955-1802608200-1802615400@www.stpaulscc.com
SUMMARY:Eritrean Mass
DESCRIPTION:
URL:https://www.stpaulscc.com/event/eritrean-mass/2027-02-14/
END:VEVENT
BEGIN:VEVENT
DTSTART;TZID=America/Regina:20270214T200000
DTEND;TZID=America/Regina:20270214T210000
DTSTAMP:20260419T125138
CREATED:20260302T195230Z
LAST-MODIFIED:20260302T195246Z
UID:10002947-1802635200-1802638800@www.stpaulscc.com
SUMMARY:Sunday Mass
DESCRIPTION:
URL:https://www.stpaulscc.com/event/sunday-mass-3/2027-02-14/
END:VEVENT
END:VCALENDAR