BEGIN:VCALENDAR
VERSION:2.0
PRODID:-//St. Paul&#039;s Co-Cathedral - ECPv6.15.20//NONSGML v1.0//EN
CALSCALE:GREGORIAN
METHOD:PUBLISH
X-ORIGINAL-URL:https://www.stpaulscc.com
X-WR-CALDESC:Events for St. Paul&#039;s Co-Cathedral
REFRESH-INTERVAL;VALUE=DURATION:PT1H
X-Robots-Tag:noindex
X-PUBLISHED-TTL:PT1H
BEGIN:VTIMEZONE
TZID:America/Regina
BEGIN:STANDARD
TZOFFSETFROM:-0600
TZOFFSETTO:-0600
TZNAME:CST
DTSTART:20250101T000000
END:STANDARD
END:VTIMEZONE
BEGIN:VEVENT
DTSTART;TZID=America/Regina:20261220T080000
DTEND;TZID=America/Regina:20261220T090000
DTSTAMP:20260423T044224
CREATED:20260302T195053Z
LAST-MODIFIED:20260302T195053Z
UID:10002415-1797753600-1797757200@www.stpaulscc.com
SUMMARY:Sunday Mass
DESCRIPTION:
URL:https://www.stpaulscc.com/event/sunday-mass/2026-12-20/
END:VEVENT
BEGIN:VEVENT
DTSTART;TZID=America/Regina:20261220T100000
DTEND;TZID=America/Regina:20261220T110000
DTSTAMP:20260423T044224
CREATED:20260302T195146Z
LAST-MODIFIED:20260302T195146Z
UID:10002677-1797760800-1797764400@www.stpaulscc.com
SUMMARY:Sunday Mass
DESCRIPTION:
URL:https://www.stpaulscc.com/event/sunday-mass-2/2026-12-20/
END:VEVENT
BEGIN:VEVENT
DTSTART;TZID=America/Regina:20261220T123000
DTEND;TZID=America/Regina:20261220T143000
DTSTAMP:20260423T044224
CREATED:20240412T165642Z
LAST-MODIFIED:20260109T175559Z
UID:10001947-1797769800-1797777000@www.stpaulscc.com
SUMMARY:Eritrean Mass
DESCRIPTION:
URL:https://www.stpaulscc.com/event/eritrean-mass/2026-12-20/
END:VEVENT
BEGIN:VEVENT
DTSTART;TZID=America/Regina:20261220T170000
DTEND;TZID=America/Regina:20261220T180000
DTSTAMP:20260423T044224
CREATED:20240412T165748Z
LAST-MODIFIED:20260109T173908Z
UID:10001406-1797786000-1797789600@www.stpaulscc.com
SUMMARY:Filipino Mass
DESCRIPTION:
URL:https://www.stpaulscc.com/event/filipino-mass/2026-12-20/
END:VEVENT
BEGIN:VEVENT
DTSTART;TZID=America/Regina:20261220T200000
DTEND;TZID=America/Regina:20261220T210000
DTSTAMP:20260423T044224
CREATED:20260302T195230Z
LAST-MODIFIED:20260302T195246Z
UID:10002939-1797796800-1797800400@www.stpaulscc.com
SUMMARY:Sunday Mass
DESCRIPTION:
URL:https://www.stpaulscc.com/event/sunday-mass-3/2026-12-20/
END:VEVENT
END:VCALENDAR