BEGIN:VCALENDAR
VERSION:2.0
PRODID:-//St. Paul&#039;s Co-Cathedral - ECPv6.15.20//NONSGML v1.0//EN
CALSCALE:GREGORIAN
METHOD:PUBLISH
X-ORIGINAL-URL:https://www.stpaulscc.com
X-WR-CALDESC:Events for St. Paul&#039;s Co-Cathedral
REFRESH-INTERVAL;VALUE=DURATION:PT1H
X-Robots-Tag:noindex
X-PUBLISHED-TTL:PT1H
BEGIN:VTIMEZONE
TZID:America/Regina
BEGIN:STANDARD
TZOFFSETFROM:-0600
TZOFFSETTO:-0600
TZNAME:CST
DTSTART:20240101T000000
END:STANDARD
END:VTIMEZONE
BEGIN:VEVENT
DTSTART;TZID=America/Regina:20250525T090000
DTEND;TZID=America/Regina:20250525T110000
DTSTAMP:20260424T085614
CREATED:20240412T165526Z
LAST-MODIFIED:20241219T191156Z
UID:10001268-1748163600-1748170800@www.stpaulscc.com
SUMMARY:K of C Pancake Breakfast
DESCRIPTION:Breakfast following the 8am Mass and 10am Mass \nPrice by donation
URL:https://www.stpaulscc.com/event/k-of-c-pancake-breakfast-3/2025-05-25/
END:VEVENT
BEGIN:VEVENT
DTSTART;TZID=America/Regina:20250525T123000
DTEND;TZID=America/Regina:20250525T143000
DTSTAMP:20260424T085614
CREATED:20240412T165642Z
LAST-MODIFIED:20260109T175559Z
UID:10001865-1748176200-1748183400@www.stpaulscc.com
SUMMARY:Eritrean Mass
DESCRIPTION:
URL:https://www.stpaulscc.com/event/eritrean-mass/2025-05-25/
END:VEVENT
END:VCALENDAR