BEGIN:VCALENDAR
VERSION:2.0
PRODID:-//St. Paul&#039;s Co-Cathedral - ECPv6.15.20//NONSGML v1.0//EN
CALSCALE:GREGORIAN
METHOD:PUBLISH
X-ORIGINAL-URL:https://www.stpaulscc.com
X-WR-CALDESC:Events for St. Paul&#039;s Co-Cathedral
REFRESH-INTERVAL;VALUE=DURATION:PT1H
X-Robots-Tag:noindex
X-PUBLISHED-TTL:PT1H
BEGIN:VTIMEZONE
TZID:America/Regina
BEGIN:STANDARD
TZOFFSETFROM:-0600
TZOFFSETTO:-0600
TZNAME:CST
DTSTART:20240101T000000
END:STANDARD
END:VTIMEZONE
BEGIN:VEVENT
DTSTART;VALUE=DATE:20250503
DTEND;VALUE=DATE:20250504
DTSTAMP:20260424T031416
CREATED:20240412T171436Z
LAST-MODIFIED:20240412T171436Z
UID:10001435-1746230400-1746316799@www.stpaulscc.com
SUMMARY:Feast of St. Philip & St. James
DESCRIPTION:
URL:https://www.stpaulscc.com/event/feast-of-st-philip-st-james/2025-05-03/
END:VEVENT
END:VCALENDAR