BEGIN:VCALENDAR
VERSION:2.0
PRODID:-//St. Paul&#039;s Co-Cathedral - ECPv6.15.20//NONSGML v1.0//EN
CALSCALE:GREGORIAN
METHOD:PUBLISH
X-WR-CALNAME:St. Paul&#039;s Co-Cathedral
X-ORIGINAL-URL:https://www.stpaulscc.com
X-WR-CALDESC:Events for St. Paul&#039;s Co-Cathedral
REFRESH-INTERVAL;VALUE=DURATION:PT1H
X-Robots-Tag:noindex
X-PUBLISHED-TTL:PT1H
BEGIN:VTIMEZONE
TZID:America/Regina
BEGIN:STANDARD
TZOFFSETFROM:-0600
TZOFFSETTO:-0600
TZNAME:CST
DTSTART:20230101T000000
END:STANDARD
END:VTIMEZONE
BEGIN:VEVENT
DTSTART;VALUE=DATE:20240806
DTEND;VALUE=DATE:20240807
DTSTAMP:20260420T100310
CREATED:20240412T172612Z
LAST-MODIFIED:20240412T172612Z
UID:10001452-1722902400-1722988799@www.stpaulscc.com
SUMMARY:Feast of the Transfiguration of the Lord
DESCRIPTION:
URL:https://www.stpaulscc.com/event/feast-of-the-transfiguration-of-the-lord/
END:VEVENT
BEGIN:VEVENT
DTSTART;TZID=America/Regina:20240806T194500
DTEND;TZID=America/Regina:20240806T204500
DTSTAMP:20260420T100310
CREATED:20240412T173007Z
LAST-MODIFIED:20240412T173007Z
UID:10001459-1722973500-1722977100@www.stpaulscc.com
SUMMARY:Holy Face Devotion
DESCRIPTION:
URL:https://www.stpaulscc.com/event/holy-face-devotion/2024-08-06/
END:VEVENT
END:VCALENDAR